BEGIN:VCALENDAR
VERSION:2.0
PRODID:-//Date iCal//NONSGML kigkonsult.se iCalcreator 2.20.2//
METHOD:PUBLISH
X-WR-CALNAME;VALUE=TEXT:UAW Kobol
BEGIN:VTIMEZONE
TZID:America/Detroit
BEGIN:STANDARD
DTSTART:20181104T020000
TZOFFSETFROM:-0400
TZOFFSETTO:-0500
RDATE:20191103T020000,20201101T020000,20211107T020000
TZNAME:EST
END:STANDARD
BEGIN:DAYLIGHT
DTSTART:20190310T020000
TZOFFSETFROM:-0500
TZOFFSETTO:-0400
RDATE:20200308T020000,20210314T020000,20220313T020000
TZNAME:EDT
END:DAYLIGHT
END:VTIMEZONE
BEGIN:VEVENT
UID:calendar.122147.field_oa_date.0@region9.uaw.org
DTSTAMP:20210917T203138Z
CREATED:20210818T213340Z
DESCRIPTION:August 18\, 2021\n\n The regular monthly meetings of the Retire
 es’ Chapter of Local 686 UAW will be held Tuesday\, September 7\, 2021 at 
 2:00 p.m.  Facial masks must be worn regardless of vaccine status.  The Me
 dical Trust will also be at our meeting.  The Benefits Office is open on M
 onday’s and Wednesday’s from 9:00 a.m. until 12:00 p.m. and from 1:00 p.m.
  to 2:00 p.m.\, BY APPOINTMENT ONLY.\n\n            The UAW Hall is open M
 onday – Friday from 9:00 a.m. to 2:00 p.m. BY APPOINTMENT ONLY (716) 433-6
 747.\n\n            For canceled meeting notifications\, please tune into 
 your local television stations and 1340 WLVL Radio\, 105.3 FM\, Local 686 
 Website\, Region 9 Website and the newspaper.                             
                                                                   \n\n \n
 \n \n\n                                                                   
      Sal Pusateri\, Jr.\, President\n\n                                   
                                      Retiree’s Chapter Local 686 UAW      
        
DTSTART;TZID=America/Detroit:20210907T140000
DTEND;TZID=America/Detroit:20210907T153000
LAST-MODIFIED:20210818T213344Z
SUMMARY:Retirees' Chapter of UAW LU 686 September Meeting Info
URL;TYPE=URI:https://region9.uaw.org/uaw-local-3300/events/retirees-chapter
 -uaw-lu-686-september-meeting-info
END:VEVENT
BEGIN:VEVENT
UID:calendar.122097.field_oa_date.0@region9.uaw.org
DTSTAMP:20210917T203138Z
CREATED:20210812T165159Z
DESCRIPTION:August 12\, 2021\n\n\n\n \n\n   \n\nRWC 846 – The Trust is not 
 able to travel any time this year so they will not be coming to our upcomi
 ng meetings.  Please pay special attention to any mail that comes to you f
 rom The Trust as they will be notifying you of any changes for 2022.\n\n  
          \n\nRWC 846 will be resuming their monthly retiree meetings start
 ing on September 8\, 2021\, at 12 pm.  Lunch will be provided as usual.\n
 \n                                                                        
                                       UAW Region 9 Auditorium            
 \n\n                                                                      
                                       Nominations Open for Chapter Officer
 s\n\n                                                                     
                                        Christmas Party Discussion\n\n \n\n
             October 13th Meeting 1 pm                                     
             Election of Chapter Officers\n\n                              
                                                                           
    \n\n**NOTE:**      Please bring face masks\, in case necessary\, due to
  changing NYS Guidelines and rise in Covid Cases.\n\n 
DTSTART;TZID=America/Detroit:20210908T120000
DTEND;TZID=America/Detroit:20210908T144500
LAST-MODIFIED:20210907T140813Z
LOCATION:UAW Region 9 Auditorium35 George Karl BlvdAmherst\, NY
SUMMARY:UAW RWC 846 Meeting Info
URL;TYPE=URI:https://region9.uaw.org/uaw-local-3300/events/uaw-rwc-846-meet
 ing-info
END:VEVENT
BEGIN:VEVENT
UID:calendar.122078.field_oa_date.0@region9.uaw.org
DTSTAMP:20210917T203138Z
CREATED:20210809T180000Z
DESCRIPTION:RWC - 424\n\n\n\nRWC 424 will be resuming their monthly retiree
  meetings starting on September 15\, 2021\, at 1 pm.  They meet on the 3rd
  Wednesday of the month.
DTSTART;TZID=America/Detroit:20210915T130000
DTEND;TZID=America/Detroit:20210915T150000
LAST-MODIFIED:20210809T184153Z
LOCATION:UAW Region 935 George Karl BlvdAmherst\, NY
SUMMARY:RWC LU424 September Meeting Info
URL;TYPE=URI:https://region9.uaw.org/uaw-local-3300/events/rwc-lu424-septem
 ber-meeting-info
END:VEVENT
BEGIN:VEVENT
UID:calendar.122034.field_oa_date.0@region9.uaw.org
DTSTAMP:20210917T203138Z
CREATED:20210802T214300Z
DESCRIPTION:August 2020\n\n            \n\nDear Local Union Presidents:\n\n
  The 21st Biennial Convention of the Coalition of Labor Union Women (CLUW)
  will be held virtually October 7-9\, 2021.  The theme for this year’s CLU
 W Convention is “Vision Vote Victory.” \n\n Please check the CLUW website 
 (www.cluw.org) for additional information on the Convention program schedu
 le\, to download registration material\, or to register online. \n\n Pleas
 e note:  to register as a delegate\, your 2021 CLUW membership must be cur
 rent as of August 23\, 2021.  Registration forms (along with payment) must
  be received by September 7\, 2021\, to get your convention materials.  \n
 \nThank you for your participation.\n\n \n\n                              
                                                           In solidarity   
                                                                           
            Jeffrey Binz\,                                                 
                                        Regional Director\n\n \n\nrc/opeiu4
 94\n\ncc:        LaKeisha Becto             Tim Bressler             Delri
 co Loyd
DTSTART;TZID=America/Detroit:20211007T120000
DTEND;TZID=America/Detroit:20211009T120000
LAST-MODIFIED:20210802T234357Z
SUMMARY:Virtual 21st Biennial Convention of Coalition of Labor Women
URL;TYPE=URI:https://region9.uaw.org/uaw-local-3300/events/virtual-21st-bie
 nnial-convention-coalition-labor-women
END:VEVENT
BEGIN:VEVENT
UID:calendar.121445.field_oa_date.0@region9.uaw.org
DTSTAMP:20210917T203138Z
CREATED:20210701T125000Z
DESCRIPTION:UAW RWC 846\n\n \n\n \n\n            September 8th Meeting 1 pm
                                               UAW Region 9 Auditorium     
        \n\n                                                               
                                              Nominations Open for Chapter 
 Officers\n\n                                                              
                                               Christmas Party Discussion\n
 \n \n\n            October 13th Meeting 1 pm                              
                    Election of Chapter Officers\n\n                       
                                                                           
           \n\n \n\n**NOTE:**      Please bring face masks\, in case necess
 ary\, due to changing NYS Guidelines and rise in Covid Cases.\n\n \n\n \n
 \n \n\n 
DTSTART;TZID=America/Detroit:20211013T130000
DTEND;TZID=America/Detroit:20211013T150000
LAST-MODIFIED:20210812T170206Z
LOCATION:UAW Region 935 George Karl BlvdAmherst\, NY
SUMMARY:UAW RWC 846 October Meeting Info
URL;TYPE=URI:https://region9.uaw.org/uaw-local-3300/events/uaw-rwc-846-octo
 ber-meeting-info
END:VEVENT
BEGIN:VEVENT
UID:calendar.84736.field_oa_date.0@region9.uaw.org
DTSTAMP:20210917T203138Z
CREATED:20200519T184500Z
DESCRIPTION:CANCELLATION NOTICE  UAW REGION 9 LEADERSHIP CONFERENCECAPE MAY
 \, NJ  - AUGUST 2020\n\n\n\nMay 19\, 2020\n\nTO: All UAW Region 9 Local Un
 ion Presidents\, Shop Chairpersons & RWC Chairpersons\n\nGreetings:\n\nDue
  to the Covid-19 Pandemic and the safety of your leadership\, membership a
 nd their families\, we will be cancelling this years’ Leadership Conferenc
 e in Cape May\, NJ. We hope that everyone understands this decision.We hop
 e to resume holding this conference in August 2021. Please continue to sta
 y safe & healthy.\n\nIn Solidarity\,Jeffrey D. Binz\, DirectorUAW Region 9
 \n\nPlease click on link below to view/print cancellation notice from Dire
 ctor Binz:\n\n\n ltr_to_reg_9_local_unions_re_office_closure_until_6.1.202
 0_-_5.11.2020.pdf\n\n    \n\n          \nCancellation Notice UAW Region 9 
 Leadership Conference _ August 2020
DTSTART;TZID=America/Detroit:20200823T180000
DTEND;TZID=America/Detroit:20200828T090000
LAST-MODIFIED:20200519T185512Z
SUMMARY:Cancellation Notice UAW Region 9 Leadership Conference
URL;TYPE=URI:https://region9.uaw.org/uaw-local-3300/events/cancellation-not
 ice-uaw-region-9-leadership-conference
END:VEVENT
BEGIN:VEVENT
UID:calendar.83102.field_oa_date.0@region9.uaw.org
DTSTAMP:20210917T203138Z
CREATED:20200505T173000Z
DESCRIPTION:Please be advised that the 2020 UAW Family Scholarship Program 
 scheduled for July 19-24\, 2020\, at the UAW Family Education Center is ca
 nceled. To ensure the safety of our members and their families\, we are ca
 nceling as a precaution in light of the Coronavirus outbreak. The next Fam
 ily Scholarship Program will be in 2021.\n\nPlease click on link below for
  cancellation memo: cancel_memo-family_scholarship.pdf
DTSTART;TZID=America/Detroit:20200719T133000
DTEND;TZID=America/Detroit:20200724T133000
LAST-MODIFIED:20200625T162239Z
SUMMARY:2020 UAW Family Scholarship Program *Cancelled*
URL;TYPE=URI:https://region9.uaw.org/uaw-local-3300/events/2020-uaw-family-
 scholarship-program-cancelled
END:VEVENT
BEGIN:VEVENT
UID:calendar.82522.field_oa_date.0@region9.uaw.org
DTSTAMP:20210917T203138Z
CREATED:20200430T141000Z
DESCRIPTION:Cancellation Notice\n\n2020 UAW STANDING COMMITTEES INSTITUTENo
 vember 15 – 20\, 2020The Walter and May Reuther UAW Family Education Cente
 rOnaway\, Michigan\n\n\n\nTo ensure the safety of our members\, it is with
  regret I inform you that as a precaution in light of the Coronavirus outb
 reak\, we are canceling the National Education Department conferences whic
 h are scheduled to be held at the UAW Education Center this year. The canc
 ellations include:\n\n• Education Committees Conference September 27 – Oct
 ober 2\, 2020• Leadership Essentials Institute October 11 – 16\, 2020• You
 ng Workers Institute October 18 – 23\, 2020• Community Services Conference
  October 25 – 30\, 2020• EAP Conference October 25 – 30\, 2020• Standing C
 ommittees Institute November 15 - 20\, 2020\n\n 
DTSTART;TZID=America/Detroit:20201115T150000
DTEND;TZID=America/Detroit:20201120T090000
LAST-MODIFIED:20200625T161402Z
LOCATION:Walter and May Reuther Uaw Family Education Center2000 Maxon Rd.On
 away\, MI
SUMMARY:2020 Standing Committees Institute *Cancelled*
URL;TYPE=URI:https://region9.uaw.org/uaw-local-3300/events/2020-standing-co
 mmittees-institute-cancelled
END:VEVENT
BEGIN:VEVENT
UID:calendar.70400.field_oa_date.0@region9.uaw.org
DTSTAMP:20210917T203138Z
CREATED:20200326T170000Z
DESCRIPTION:Cancellation Notice\n\nOFFICIAL CALL TO THE2020 UAW COMMUNITY S
 ERVICES CONFERENCEOCTOBER 25 - 30\, 2020The Walter and May Reuther UAW Fam
 ily Education CenterOnaway\, Michigan\n\nTo ensure the safety of our membe
 rs\, it is with regret I inform you that as a precaution in light of the C
 oronavirus outbreak\, we are canceling the National Education Department c
 onferences which are scheduled to be held at the UAW Education Center this
  year. The cancellations include:\n\n• Education Committees Conference Sep
 tember 27 – October 2\, 2020• Leadership Essentials Institute October 11 –
  16\, 2020• Young Workers Institute October 18 – 23\, 2020• Community Serv
 ices Conference October 25 – 30\, 2020• EAP Conference October 25 – 30\, 2
 020• Standing Committees Institute November 15 - 20\, 2020
DTSTART;TZID=America/Detroit:20201025T030000
DTEND;TZID=America/Detroit:20201030T090000
LAST-MODIFIED:20200625T160406Z
LOCATION:Walter and May Ruether UAW Family Education Center2000 Maxon RdOna
 way\, MI
SUMMARY:2020 Community Services Conference *Cancelled*
URL;TYPE=URI:https://region9.uaw.org/uaw-local-3300/events/2020-community-s
 ervices-conference-cancelled
END:VEVENT
BEGIN:VEVENT
UID:calendar.69820.field_oa_date.0@region9.uaw.org
DTSTAMP:20210917T203138Z
CREATED:20200325T171500Z
DESCRIPTION:Cancellation Notice\n\n2020 EMPLOYEE ASSISTANCE PROGRAM (EAP) C
 ONFERENCE\n\nOCTOBER 25 - 30\, 2020The Walter and May Reuther UAW Family E
 ducation CenterOnaway\, Michigan\n\nTo ensure the safety of our members\, 
 it is with regret I inform you that as a precaution in light of the Corona
 virus outbreak\, we are canceling the National Education Department confer
 ences which are scheduled to be held at the UAW Education Center this year
 . The cancellations include:\n\n• Education Committees Conference Septembe
 r 27 – October 2\, 2020• Leadership Essentials Institute October 11 – 16\,
  2020• Young Workers Institute October 18 – 23\, 2020• Community Services 
 Conference October 25 – 30\, 2020• EAP Conference October 25 – 30\, 2020• 
 Standing Committees Institute November 15 - 20\, 2020\n\n 
DTSTART;TZID=America/Detroit:20201025T150000
DTEND;TZID=America/Detroit:20201030T090000
LAST-MODIFIED:20200625T161019Z
LOCATION:Walter and May Reuther UAW Family Education Center2000 Maxon RdOna
 way\, Mi
SUMMARY:2020 EAP Conference *Cancelled*
URL;TYPE=URI:https://region9.uaw.org/uaw-local-3300/events/2020-eap-confere
 nce-cancelled
END:VEVENT
BEGIN:VEVENT
UID:calendar.67162.field_oa_date.0@region9.uaw.org
DTSTAMP:20210917T203138Z
CREATED:20200312T153000Z
DESCRIPTION:Cancellation Notice\n\n2020 UAW LEADERSHIP ESSENTIALS INSTITUTE
 OCTOBER 11-16\, 2020The Walter and May Reuther UAW Family Education Center
 \n\nTo ensure the safety of our members\, it is with regret I inform you t
 hat as a precaution in light of the Coronavirus outbreak\, we are cancelin
 g the National Education Department conferences which are scheduled to be 
 held at the UAW Education Center this year. The cancellations include:\n\n
 • Education Committees Conference September 27 – October 2\, 2020• Leaders
 hip Essentials Institute October 11 – 16\, 2020• Young Workers Institute O
 ctober 18 – 23\, 2020• Community Services Conference October 25 – 30\, 202
 0• EAP Conference October 25 – 30\, 2020• Standing Committees Institute No
 vember 15 - 20\, 2020\n\n 
DTSTART;TZID=America/Detroit:20201011T150000
DTEND;TZID=America/Detroit:20201016T090000
LAST-MODIFIED:20200625T162715Z
LOCATION:Walter and May Reuther UAW Family Education Center2000 Maxon RdOna
 way\, MI 49765
SUMMARY:2020 UAW Leadership Essentials Institute *Cancelled*
URL;TYPE=URI:https://region9.uaw.org/uaw-local-3300/events/2020-uaw-leaders
 hip-essentials-institute-cancelled
END:VEVENT
BEGIN:VEVENT
UID:calendar.51106.field_oa_date.0@region9.uaw.org
DTSTAMP:20210917T203138Z
CREATED:20191016T182100Z
DESCRIPTION: \n\n                                                          
               October 16\, 2019\n\nThe regular monthly meeting of the Reti
 rees’ Chapter of Local 686 UAW will be held on Tuesday\, November 5\, 2019
  at 2:00 p.m. at the Elk’s Lodge\, 6791 North Canal Road\, Lockport\, NY. 
  The meeting has been moved due to the current GM Strike.\n\nThe Veteran’s
  5-K Run is canceled this year due to the GM Strike. \n\nThe Retiree’s Chr
 istmas party will be held on Tuesday\, December 3\, 2019.  If you are not 
 on the mailing list to receive an invite to the Christmas party\, please c
 all Sue at 433-6747 to be put on the list.  You must be a dues paying reti
 ree to attend the Christmas Party.  Also\, there is no bus transportation 
 this year for the Christmas Party.\n\n   The UAW Hall is open Monday – Fri
 day from 9:00 a.m. to 2:00 p.m.  The Benefit office hours are Mondays and 
 Wednesdays from 9:00 a.m. to 12:00 p.m. and from 1:00 p.m. to 2:00 p.m.\n
 \n    The UAW Union Hall is open for rental space.  Call Sue at 433-6747\,
  for information. Local 686 website is:   http://region9.uaw.org/local686 
  \n\n            For canceled meeting notifications\, please tune into you
 r local television stations and 1340 WLVL Radio.                          
                                                                      \n\n 
                                                                        Sal
  Pusateri\, Jr.\, President\n\n                                           
                              Retiree’s Chapter Local 686 UAW              
  \n\n \n\nSP/sib\n\nOpeiu 153
DTSTART;TZID=America/Detroit:20191105T140000
DTEND;TZID=America/Detroit:20191105T160000
LAST-MODIFIED:20191016T182115Z
LOCATION: Elk’s Lodge6791 North Canal Road Lockport\, NY
SUMMARY:Retirees' Chapter UAW LU686 November Meeting
URL;TYPE=URI:https://region9.uaw.org/uaw-local-3300/events/retirees-chapter
 -uaw-lu686-november-meeting
END:VEVENT
BEGIN:VEVENT
UID:calendar.45278.field_oa_date.0@region9.uaw.org
DTSTAMP:20210917T203138Z
CREATED:20190910T161520Z
DESCRIPTION:letter_-_cancel_-_uaw_awards_dinner_10.17.19_-_9.10.19.pdf\n\n 
    \n\n          \nCANCELED-UAW AWARDS DINNER- CANCELED!!!\n      \n\n\n\n
 \n letter_-_cancel_-_uaw_awards_dinner_10.17.19_-_9.10.19.pdf\n\n    \n\n 
          \nCANCELED-UAW AWARDS DINNER- CANCELED!!!\n      \n\n\n\n\n lette
 r_-_cancel_-_uaw_awards_dinner_10.17.19_-_9.10.19.pdf\n\n    \n\n         
  \nCANCELED-UAW AWARDS DINNER- CANCELED!!!\n      \n\n\n\n\n letter_-_canc
 el_-_uaw_awards_dinner_10.17.19_-_9.10.19.pdf\n\n    \n\n          \nCANCE
 LED-UAW AWARDS DINNER- CANCELED!!!\n      \n\n\n\n\n letter_-_cancel_-_uaw
 _awards_dinner_10.17.19_-_9.10.19.pdf\n\n    \n\n          \nCANCELED-UAW 
 AWARDS DINNER- CANCELED!!!\n      \n\nPLEASE BE ADVISED THE uaw AWARDS DIN
 NER SCHEDUKED ON OCTOBER 17\, 2019 HAS BEEN CANCELED! \n\n\n\nPlease click
  on link below for detailed information:\n\n\n letter_-_cancel_-_uaw_award
 s_dinner_10.17.19_-_9.10.19.pdf\n\n    \n\n          \nCANCELED-UAW AWARDS
  DINNER- CANCELED!!!\n      \n\n\n letter_-_cancel_-_uaw_awards_dinner_10.
 17.19_-_9.10.19.pdf\n\n    \n\n          \nCANCELED-UAW AWARDS DINNER- CAN
 CELED!!!
DTSTART;VALUE=DATE:20191017
DTEND;VALUE=DATE:20191018
LAST-MODIFIED:20190910T161524Z
SUMMARY:CANCELED-UAW AWARDS DINNER- CANCELED
URL;TYPE=URI:https://region9.uaw.org/uaw-local-3300/events/canceled-uaw-awa
 rds-dinner-canceled
END:VEVENT
BEGIN:VEVENT
UID:calendar.42864.field_oa_date.0@region9.uaw.org
DTSTAMP:20210917T203138Z
CREATED:20190805T160000Z
DESCRIPTION:                                            Retirees' Workers C
 hapter LU 846\n\nMonthly Meetings start-up again Wednesday\, September 11t
 h @ 12 Noon\, there will be 2 speakers (One speaker on CBD Oil) & flu shot
 s will be available\n\nFlu Shots will also be available at October 9th mee
 ting with Kevin.
DTSTART;TZID=America/Detroit:20190911T120000
DTEND;TZID=America/Detroit:20190911T140000
LAST-MODIFIED:20190805T160500Z
SUMMARY:Retirees' Workers Chapter LU 846
URL;TYPE=URI:https://region9.uaw.org/uaw-local-3300/events/retirees-workers
 -chapter-lu-846
END:VEVENT
BEGIN:VEVENT
UID:calendar.41825.field_oa_date.0@region9.uaw.org
DTSTAMP:20210917T203138Z
CREATED:20190530T160000Z
DESCRIPTION:                                                              M
 ay 30\, 2019\n\n \n\n  The regular monthly meeting of the Retirees’ Chapte
 r of Local 686 UAW  is canceled for the months of June\, July and August\,
  2019 and will resume on Tuesday\, September 3\, 2019 at 2:00 p.m. and bin
 go held at 1:00 p.m. at the UAW Hall\, 524 Walnut Street\, Lockport\, NY. 
 Flu shots will also be given starting at 12:00pm.  We will have representa
 tives speak from the UAW Retiree Medical Trust\, Blue Cross/Blue Shield an
 d Medco.\n\n            The Retirees picnic will be held on Sunday\, Augus
 t 4\, 2019.  If you are a dues paying Retiree and not currently on the pic
 nic mailing list\, call Sue at 433-6747 to have your name added.  The last
  day to sign up for the picnic is July 24\, 2019.  Buy American Day is Sat
 urday\, August 17\, 2019 at the Lockport GM Plant\, 200 Upper Mountain Roa
 d from 9:00 a.m. to 3:00 p.m.\n\n            The UAW Hall is open Monday –
  Friday from 9:00 a.m. to 2:00 p.m.  The Benefit office hours are Mondays 
 and Wednesdays from 9:00 a.m. to 12:00 p.m. and from 1:00 p.m. to 2:00 p.m
 .\n\n            The UAW Union Hall is open for rental space.  Call Sue at
  433-6747\, for information. Local 686 website is:   http://region9.uaw.or
 g/local686  \n\n            For canceled meeting notifications\, please tu
 ne into your local television stations and 1340 WLVL Radio.               
                                                                           
       \n\n                                                                
         Sal Pusateri\, Jr.\, President\n\n                                
                                         Retiree’s Chapter Local 686 UAW   
             \n\n \n\nSP/sib\n\nOpeiu 153
DTSTART;TZID=America/Detroit:20190817T090000
DTEND;TZID=America/Detroit:20190817T150000
LAST-MODIFIED:20190618T174926Z
LOCATION:Lockport GM Plant200 Upper Mountain RoadLockport\, NY
SUMMARY:Retiree's Chapter LU 686 'Buy American Day'
URL;TYPE=URI:https://region9.uaw.org/uaw-local-3300/events/retirees-chapter
 -lu-686-buy-american-day
END:VEVENT
BEGIN:VEVENT
UID:calendar.41785.field_oa_date.0@region9.uaw.org
DTSTAMP:20210917T203138Z
CREATED:20190530T133535Z
DESCRIPTION:Retiree's Chapter LU 846 will hold their picnic on Wednesday\, 
 June 12\, 2019 beginning at 12:00 pm at Noco Pavillion\, 450 Ensiminger Ro
 ad\, Tonawanda\, NY 14150
DTSTART;TZID=America/Detroit:20190612T120000
DTEND;TZID=America/Detroit:20190612T150000
LAST-MODIFIED:20190530T133539Z
LOCATION:Noco PavillionEnsiminger RoadTonawanda\, NY 14150
SUMMARY:Retiree's Chapter LU846 Picnic
URL;TYPE=URI:https://region9.uaw.org/uaw-local-3300/events/retirees-chapter
 -lu846-picnic
END:VEVENT
BEGIN:VEVENT
UID:calendar.40076.field_oa_date.0@region9.uaw.org
DTSTAMP:20210917T203138Z
CREATED:20190314T190000Z
DTSTART;TZID=America/Detroit:20190430T110000
DTEND;TZID=America/Detroit:20190430T133000
LAST-MODIFIED:20190314T185830Z
LOCATION:100 Ramada Inn DriveGreensburg\, PA 
SUMMARY:Southwest PA Retiree Council Meeting
URL;TYPE=URI:https://region9.uaw.org/uaw-local-3300/events/southwest-pa-ret
 iree-council-meeting
END:VEVENT
BEGIN:VEVENT
UID:calendar.40066.field_oa_date.0@region9.uaw.org
DTSTAMP:20210917T203138Z
CREATED:20190314T185500Z
DTSTART;TZID=America/Detroit:20190426T103000
DTEND;TZID=America/Detroit:20190426T130000
LAST-MODIFIED:20190314T185555Z
LOCATION:5300 Pennsylvania AveFort Washington\, PA
SUMMARY:Southeast PA Retiree Council Meeting
URL;TYPE=URI:https://region9.uaw.org/uaw-local-3300/events/southeast-pa-ret
 iree-council-meeting
END:VEVENT
BEGIN:VEVENT
UID:calendar.40046.field_oa_date.0@region9.uaw.org
DTSTAMP:20210917T203138Z
CREATED:20190314T184500Z
DTSTART;TZID=America/Detroit:20190423T110000
DTEND;TZID=America/Detroit:20190423T130000
LAST-MODIFIED:20190314T184925Z
LOCATION:2800 West 8th StErie\, PA
SUMMARY:Northwest PA Retiree Council Meeting
URL;TYPE=URI:https://region9.uaw.org/uaw-local-3300/events/northwest-pa-ret
 iree-council-meeting
END:VEVENT
BEGIN:VEVENT
UID:calendar.40027.field_oa_date.0@region9.uaw.org
DTSTAMP:20210917T203138Z
CREATED:20190314T184500Z
DTSTART;TZID=America/Detroit:20190418T110000
DTEND;TZID=America/Detroit:20190418T130000
LAST-MODIFIED:20190314T184602Z
LOCATION:600 Wildflower DriveWilkes Barre\, PA
SUMMARY:Northeast PA Retiree Council Meeting
URL;TYPE=URI:https://region9.uaw.org/uaw-local-3300/events/northeast-pa-ret
 iree-council-meeting
END:VEVENT
END:VCALENDAR
